BEGIN:VCALENDAR
VERSION:2.0
PRODID:-//Vibe 105 - ECPv6.15.20//NONSGML v1.0//EN
CALSCALE:GREGORIAN
METHOD:PUBLISH
X-WR-CALNAME:Vibe 105
X-ORIGINAL-URL:https://www.vibe105to.com
X-WR-CALDESC:Events for Vibe 105
REFRESH-INTERVAL;VALUE=DURATION:PT1H
X-Robots-Tag:noindex
X-PUBLISHED-TTL:PT1H
BEGIN:VTIMEZONE
TZID:America/Toronto
BEGIN:DAYLIGHT
TZOFFSETFROM:-0500
TZOFFSETTO:-0400
TZNAME:EDT
DTSTART:20250309T070000
END:DAYLIGHT
BEGIN:STANDARD
TZOFFSETFROM:-0400
TZOFFSETTO:-0500
TZNAME:EST
DTSTART:20251102T060000
END:STANDARD
BEGIN:DAYLIGHT
TZOFFSETFROM:-0500
TZOFFSETTO:-0400
TZNAME:EDT
DTSTART:20260308T070000
END:DAYLIGHT
BEGIN:STANDARD
TZOFFSETFROM:-0400
TZOFFSETTO:-0500
TZNAME:EST
DTSTART:20261101T060000
END:STANDARD
BEGIN:DAYLIGHT
TZOFFSETFROM:-0500
TZOFFSETTO:-0400
TZNAME:EDT
DTSTART:20270314T070000
END:DAYLIGHT
BEGIN:STANDARD
TZOFFSETFROM:-0400
TZOFFSETTO:-0500
TZNAME:EST
DTSTART:20271107T060000
END:STANDARD
END:VTIMEZONE
BEGIN:VEVENT
DTSTART;TZID=America/Toronto:20260801T190000
DTEND;TZID=America/Toronto:20260801T230000
DTSTAMP:20260420T122542
CREATED:20260317T190903Z
LAST-MODIFIED:20260317T190903Z
UID:10016414-1785610800-1785625200@www.vibe105to.com
SUMMARY:Ne-Yo & Akon - Nights Like This Tour 2026
DESCRIPTION:
URL:https://www.vibe105to.com/event/ne-yo-akon-nights-like-this-tour-2026-2/
LOCATION:RBC Amphitheatre\, 909 Lake Shore Blvd W\, Toronto\, Ontario\, M6K 3L3\, Canada
CATEGORIES:Concerts
ATTACH;FMTTYPE=image/jpeg:https://www.vibe105to.com/wp-content/uploads/2026/03/Static_Social-Instagram_1080x1080_NeYo-Akon_2026_Regional_RBCAmphitheatre_0115.jpg
END:VEVENT
END:VCALENDAR