BEGIN:VCALENDAR
VERSION:2.0
PRODID:-//Vibe 105 - ECPv6.15.20//NONSGML v1.0//EN
CALSCALE:GREGORIAN
METHOD:PUBLISH
X-ORIGINAL-URL:https://www.vibe105to.com
X-WR-CALDESC:Events for Vibe 105
REFRESH-INTERVAL;VALUE=DURATION:PT1H
X-Robots-Tag:noindex
X-PUBLISHED-TTL:PT1H
BEGIN:VTIMEZONE
TZID:America/Toronto
BEGIN:DAYLIGHT
TZOFFSETFROM:-0500
TZOFFSETTO:-0400
TZNAME:EDT
DTSTART:20250309T070000
END:DAYLIGHT
BEGIN:STANDARD
TZOFFSETFROM:-0400
TZOFFSETTO:-0500
TZNAME:EST
DTSTART:20251102T060000
END:STANDARD
BEGIN:DAYLIGHT
TZOFFSETFROM:-0500
TZOFFSETTO:-0400
TZNAME:EDT
DTSTART:20260308T070000
END:DAYLIGHT
BEGIN:STANDARD
TZOFFSETFROM:-0400
TZOFFSETTO:-0500
TZNAME:EST
DTSTART:20261101T060000
END:STANDARD
BEGIN:DAYLIGHT
TZOFFSETFROM:-0500
TZOFFSETTO:-0400
TZNAME:EDT
DTSTART:20270314T070000
END:DAYLIGHT
BEGIN:STANDARD
TZOFFSETFROM:-0400
TZOFFSETTO:-0500
TZNAME:EST
DTSTART:20271107T060000
END:STANDARD
END:VTIMEZONE
BEGIN:VEVENT
DTSTART;TZID=America/Toronto:20260704T190000
DTEND;TZID=America/Toronto:20260704T230000
DTSTAMP:20260420T122933
CREATED:20260304T093110Z
LAST-MODIFIED:20260304T093110Z
UID:10016383-1783191600-1783206000@www.vibe105to.com
SUMMARY:Kes - The Roots\, Rock\, Soca Tour
DESCRIPTION:
URL:https://www.vibe105to.com/event/kes-the-roots-rock-soca-tour/
LOCATION:RBC Amphitheatre\, 909 Lake Shore Blvd W\, Toronto\, Ontario\, M6K 3L3\, Canada
CATEGORIES:Concerts
ATTACH;FMTTYPE=image/jpeg:https://www.vibe105to.com/wp-content/uploads/2026/03/Static_KES_Social_2026_1080x1080_Toronto.jpg
END:VEVENT
END:VCALENDAR